BEGIN:VCALENDAR
VERSION:2.0
PRODID:-//ChamberMaster//Event Calendar 2.0//EN
METHOD:PUBLISH
X-PUBLISHED-TTL:P3D
REFRESH-INTERVAL:P3D
CALSCALE:GREGORIAN
BEGIN:VEVENT
DTSTART:20220624T000000Z
DTEND:20220624T040000Z
X-MICROSOFT-CDO-ALLDAYEVENT:FALSE
SUMMARY:Chamber Member Mixer
DESCRIPTION:A mixer to allow our member to connect and socialize to build relations.
X-ALT-DESC;FMTTYPE=text/html:A mixer to allow our member to connect and socialize to build relations.\n<div>&nbsp\;</div>\n\n<div>&nbsp\;</div>\n
LOCATION:19 Clubhouse Dr\, Chowchilla\, CA 93610
UID:e.3058.1855
SEQUENCE:3
DTSTAMP:20260424T175118Z
URL:http://chowchillany.chambermaster.com/events/details/chamber-member-mixer-1855
END:VEVENT

END:VCALENDAR
