BEGIN:VCALENDAR
VERSION:2.0
PRODID:-//ChamberMaster//Event Calendar 2.0//EN
METHOD:PUBLISH
X-PUBLISHED-TTL:P3D
REFRESH-INTERVAL:P3D
CALSCALE:GREGORIAN
BEGIN:VEVENT
DTSTART:20230625T000000Z
DTEND:20230625T050000Z
X-MICROSOFT-CDO-ALLDAYEVENT:FALSE
SUMMARY:Chamberfest
DESCRIPTION:Carnival games and inflatable games\, bar\, food trucks\, and prizes
X-ALT-DESC;FMTTYPE=text/html:<br />\nCarnival games and inflatable games\, bar\, food trucks\, and prizes
LOCATION:800 South 3rd Street\, Chowchilla\, CA 93610
UID:e.3058.1867
SEQUENCE:3
DTSTAMP:20260420T211102Z
URL:http://chowchillany.chambermaster.com/events/details/chamberfest-1867
END:VEVENT

END:VCALENDAR
