BEGIN:VCALENDAR
VERSION:2.0
PRODID:-//ChamberMaster//Event Calendar 2.0//EN
METHOD:PUBLISH
X-PUBLISHED-TTL:P3D
REFRESH-INTERVAL:P3D
CALSCALE:GREGORIAN
BEGIN:VEVENT
DTSTART;VALUE=DATE:20211117
DTEND;VALUE=DATE:20211218
TRANSP:TRANSPARENT
X-MICROSOFT-CDO-ALLDAYEVENT:TRUE
SUMMARY:Christmas Decor Contest
DESCRIPTION:Christmas Decor Contest
X-ALT-DESC;FMTTYPE=text/html:Christmas Decor Contest
LOCATION:
UID:e.3058.1770
SEQUENCE:3
DTSTAMP:20260426T040713Z
URL:http://chowchillany.chambermaster.com/events/details/christmas-decor-contest-1770
END:VEVENT

END:VCALENDAR
