BEGIN:VCALENDAR
VERSION:2.0
PRODID:-//ChamberMaster//Event Calendar 2.0//EN
METHOD:PUBLISH
X-PUBLISHED-TTL:P3D
REFRESH-INTERVAL:P3D
CALSCALE:GREGORIAN
BEGIN:VEVENT
DTSTART:20220205T163000Z
DTEND:20220205T200000Z
X-MICROSOFT-CDO-ALLDAYEVENT:FALSE
SUMMARY:Madera County Academic Decathlon
DESCRIPTION:The Academic Decathlon speech and interview competitions will be held on Saturday\, February 5\, 2022 at Madera South High School.  Speech and interview judges are needed from 8:30 a.m.-12:00 p.m.  COVID-19 guidelines will be followed.  For more information or to volunteer\, contact Kristi Winter\, Coordinator\, Student Events\, Madera County Superintendent of Schools at 559-662-3873 or kwinter@mcsos.org.
X-ALT-DESC;FMTTYPE=text/html:The Academic Decathlon speech and interview competitions will be held on Saturday\, February 5\, 2022 at Madera South High School.&nbsp\; Speech and interview judges are needed from 8:30 a.m.-12:00 p.m.&nbsp\; COVID-19 guidelines will be followed.&nbsp\; For more information or to volunteer\, contact Kristi Winter\, Coordinator\, Student Events\, Madera County Superintendent of Schools at 559-662-3873 or <a href="mailto:kwinter@mcsos.org">kwinter@mcsos.org</a>.
LOCATION:Madera South High School
UID:e.3058.1818
SEQUENCE:3
DTSTAMP:20260424T175118Z
URL:http://chowchillany.chambermaster.com/events/details/madera-county-academic-decathlon-1818
END:VEVENT

END:VCALENDAR
