BEGIN:VCALENDAR
VERSION:2.0
PRODID:-//ChamberMaster//Event Calendar 2.0//EN
METHOD:PUBLISH
X-PUBLISHED-TTL:P3D
REFRESH-INTERVAL:P3D
CALSCALE:GREGORIAN
BEGIN:VEVENT
DTSTART:20220205T200000Z
DTEND:20220205T200000Z
X-MICROSOFT-CDO-ALLDAYEVENT:FALSE
SUMMARY:Madera County Academic Decathlon
DESCRIPTION:Madera County Superintendent of Schools will host the 40th annual Academic Decathlon on Saturday\, February 5\, 2022.  This year's topic is "Water: A Most Essential Resource."  The Super Quiz begins at 12:00 p.m. followed by lunch and an awards ceremony at Madera South High School.  High school students will take tests in the areas of art\, economics\, literature\, mathematics\, music\, science and social science.  Subjective events include essay\, interview and speech.  The public is invited to attend. COVID-19 guidelines will be followed.  For more information contact Kristi Winter\, Coordinator\, Student Events\, Madera County Superintendent of Schools at 559-662-3873 or kwinter@mcsos.org.
X-ALT-DESC;FMTTYPE=text/html:<span style="font-family:tahoma\,sans-serif\;"><span style="font-size:12.0pt\;">Madera County Superintendent of Schools will host the 40<sup>th</sup> annual Academic Decathlon on Saturday\, February 5\, 2022.&nbsp\; This year&rsquo\;s topic is &ldquo\;Water: A Most Essential Resource.&rdquo\;&nbsp\; The Super Quiz begins at 12:00 p.m. followed by lunch and an awards ceremony at Madera South High School.&nbsp\; High school students will take tests in the areas of art\, economics\, literature\, mathematics\, music\, science and social science.&nbsp\; Subjective events include essay\, interview and speech.&nbsp\; The public is invited to attend. COVID-19 guidelines will be followed.&nbsp\; For more information contact Kristi Winter\, Coordinator\, Student Events\, Madera County Superintendent of Schools at 559-662-3873 or </span></span><span style="font-family:tahoma\,sans-serif\;"><span style="font-size:12.0pt\;"><a href="mailto:kwinter@mcsos.org">kwinter@mcsos.org</a></span></span><span style="font-family:tahoma\,sans-serif\;"><span style="font-size:12.0pt\;">.&nbsp\;&nbsp\;</span></span>
LOCATION:Madera South High School
UID:e.3058.1819
SEQUENCE:3
DTSTAMP:20260424T175118Z
URL:http://chowchillany.chambermaster.com/events/details/madera-county-academic-decathlon-1819
END:VEVENT

END:VCALENDAR
